BEGIN:VCALENDAR
VERSION:2.0
PRODID:-//Madden’s on Gull Lake - ECPv6.3.7//NONSGML v1.0//EN
CALSCALE:GREGORIAN
METHOD:PUBLISH
X-ORIGINAL-URL:https://www.maddens.com
X-WR-CALDESC:Events for Madden’s on Gull Lake
REFRESH-INTERVAL;VALUE=DURATION:PT1H
X-Robots-Tag:noindex
X-PUBLISHED-TTL:PT1H
BEGIN:VTIMEZONE
TZID:UTC
BEGIN:STANDARD
TZOFFSETFROM:+0000
TZOFFSETTO:+0000
TZNAME:UTC
DTSTART:20230101T000000
END:STANDARD
END:VTIMEZONE
BEGIN:VEVENT
DTSTART;TZID=UTC:20231123T110000
DTEND;TZID=UTC:20231123T140000
DTSTAMP:20260423T115846
CREATED:20211026T184549Z
LAST-MODIFIED:20231024T222801Z
UID:10291-1700737200-1700748000@www.maddens.com
SUMMARY:Grab & Go Thanksgiving Dinner
DESCRIPTION:GRAB & GO THANKSGIVING DINNER\n$250+ tax | Serves 8\nOrder by Monday\, November 20 \nPRE-ORDER YOUR GRAB & GO THANKSGIVING DINNER\nEnjoy a classic Thanksgiving dinner with out the stress or mess. Order your Thanksgiving dinner in advance and pick up your freshly prepared meal at Wilson Bay on Thanksgiving Day (Thursday\, November 23) from 11AM-2PM. Orders must be placed by 4PM on Monday\, November 20. \nMENU\n12-14lb Turkey\, Stuffing\, Mashed Potatoes\, Gravy\, Green Bean Casserole\, Roasted Squash\, 7 Layer Salad\, Cranberries\, Homemade Dinner Rolls\, Choice of Pumpkin Pie or Pumpkin Cheesecake \nOrder Online
URL:https://www.maddens.com/event/grab-go-thanksgiving-dinner/
LOCATION:11266 Pine Beach Peninsula\, Brainerd\, MN\, 56401\, United States
ATTACH;FMTTYPE=image/png:https://www.maddens.com/content/uploads/2020/11/turkey.png
END:VEVENT
BEGIN:VEVENT
DTSTART;TZID=UTC:20231126T130000
DTEND;TZID=UTC:20231126T160000
DTSTAMP:20260423T115846
CREATED:20230912T181339Z
LAST-MODIFIED:20231121T222122Z
UID:12924-1701003600-1701014400@www.maddens.com
SUMMARY:Holiday Cookie Walk
DESCRIPTION:SOLD OUT! \nThank you so much for your interest in attending the Holiday Cookie Walk. There has been so much interest in the event that we have SOLD OUT with advance registration. Tickets will not be available at the door. We apologize to those who missed out and hope you’ll keep the event in mind for next year. Sign up for our email list here to receive notifications for upcoming specials and events.  \nIndulge in the epitome of holiday sweetness and kick off the winter season at Madden’s on Gull Lake’s NEW Holiday Cookie Walk event! The Holiday Cookie Walk offers a clever solution to gathering an assortment of homemade cookies\, all without having to lift a spatula. Fill a box with holiday favorites fresh from Madden’s Bakery like gingerbread\, snickerdoodle\, iced sugar cookies and more\, then weigh and purchase for $10 per lb (about 10-15 cookies\, depending on variety). \n  \n \nYou & your family can also:\n• Sample holiday hor d’oeuvres\n• Shop our “Holiday Market” of local handmade vendors\n• Create holiday crafts\n• Try beer and wine samples (+ cash bar)\n• Enjoy holiday games & activities\n• Meet Santa Claus! \nPlus\, shop a selection of local vendors and enjoy crafts\, games\, and entertainment for the whole family! \nEVENT DETAILS\nDate: Sunday\, November 26\nTime: 1-4pm\nLocation: Town Hall\nPrice: SOLD OUT
URL:https://www.maddens.com/event/holiday-cookie-walk/
LOCATION:Town Hall\, MN\, United States
CATEGORIES:Daily Activities Calendar,Dining & Entertainment,Golf Member Calendar
ATTACH;FMTTYPE=image/png:https://www.maddens.com/content/uploads/2023/09/HOliday-Cookie-walk-Banner.png
END:VEVENT
END:VCALENDAR